BEGIN:VCALENDAR
VERSION:2.0
PRODID:-//AMMO - ECPv6.15.20//NONSGML v1.0//EN
CALSCALE:GREGORIAN
METHOD:PUBLISH
X-WR-CALNAME:AMMO
X-ORIGINAL-URL:https://www.ammo-underground.at
X-WR-CALDESC:Veranstaltungen für AMMO
REFRESH-INTERVAL;VALUE=DURATION:PT1H
X-Robots-Tag:noindex
X-PUBLISHED-TTL:PT1H
BEGIN:VTIMEZONE
TZID:Europe/Vienna
BEGIN:DAYLIGHT
TZOFFSETFROM:+0100
TZOFFSETTO:+0200
TZNAME:CEST
DTSTART:20250330T010000
END:DAYLIGHT
BEGIN:STANDARD
TZOFFSETFROM:+0200
TZOFFSETTO:+0100
TZNAME:CET
DTSTART:20251026T010000
END:STANDARD
BEGIN:DAYLIGHT
TZOFFSETFROM:+0100
TZOFFSETTO:+0200
TZNAME:CEST
DTSTART:20260329T010000
END:DAYLIGHT
BEGIN:STANDARD
TZOFFSETFROM:+0200
TZOFFSETTO:+0100
TZNAME:CET
DTSTART:20261025T010000
END:STANDARD
BEGIN:DAYLIGHT
TZOFFSETFROM:+0100
TZOFFSETTO:+0200
TZNAME:CEST
DTSTART:20270328T010000
END:DAYLIGHT
BEGIN:STANDARD
TZOFFSETFROM:+0200
TZOFFSETTO:+0100
TZNAME:CET
DTSTART:20271031T010000
END:STANDARD
END:VTIMEZONE
BEGIN:VEVENT
DTSTART;TZID=Europe/Vienna:20260321T190000
DTEND;TZID=Europe/Vienna:20260321T233000
DTSTAMP:20260419T182501
CREATED:20260113T144355Z
LAST-MODIFIED:20260114T093114Z
UID:42177-1774119600-1774135800@www.ammo-underground.at
SUMMARY:AMMO UNDERGROUND NIGHT VOL. 23
DESCRIPTION:Am 21.03.2026 findet die Vol. 23 der AMMO Underground Nights im Grazer Club Wakuum statt. \nLine Up: \nANHEIM (Black Metal / Deutschland)\nFacebook\nInstagram \nNARGATE\nFacebook\nInstagram \nPER NOCTEM ET NEBULAM\nFacebook\nInstagram
URL:https://www.ammo-underground.at/event/ammo-underground-night-vol-23/
LOCATION:club wakuum\, Griesgasse 25\, Graz\, Steiermark\, 8020
CATEGORIES:Konzerte
ATTACH;FMTTYPE=image/jpeg:https://www.ammo-underground.at/wp-content/uploads/ammoundergroundnight_vol23_header.jpg
ORGANIZER;CN="Ammo Supports The Underground":MAILTO:office@ammo-underground.at
END:VEVENT
END:VCALENDAR